BEGIN:VCALENDAR
VERSION:2.0
PRODID:-//Maija Ruuskanen - ECPv6.15.20//NONSGML v1.0//EN
CALSCALE:GREGORIAN
METHOD:PUBLISH
X-WR-CALNAME:Maija Ruuskanen
X-ORIGINAL-URL:https://maijaruuskanen.com
X-WR-CALDESC:Tapahtumat Maija Ruuskanen
REFRESH-INTERVAL;VALUE=DURATION:PT1H
X-Robots-Tag:noindex
X-PUBLISHED-TTL:PT1H
BEGIN:VTIMEZONE
TZID:Europe/Helsinki
BEGIN:DAYLIGHT
TZOFFSETFROM:+0200
TZOFFSETTO:+0300
TZNAME:EEST
DTSTART:20220327T010000
END:DAYLIGHT
BEGIN:STANDARD
TZOFFSETFROM:+0300
TZOFFSETTO:+0200
TZNAME:EET
DTSTART:20221030T010000
END:STANDARD
BEGIN:DAYLIGHT
TZOFFSETFROM:+0200
TZOFFSETTO:+0300
TZNAME:EEST
DTSTART:20230326T010000
END:DAYLIGHT
BEGIN:STANDARD
TZOFFSETFROM:+0300
TZOFFSETTO:+0200
TZNAME:EET
DTSTART:20231029T010000
END:STANDARD
BEGIN:DAYLIGHT
TZOFFSETFROM:+0200
TZOFFSETTO:+0300
TZNAME:EEST
DTSTART:20240331T010000
END:DAYLIGHT
BEGIN:STANDARD
TZOFFSETFROM:+0300
TZOFFSETTO:+0200
TZNAME:EET
DTSTART:20241027T010000
END:STANDARD
END:VTIMEZONE
BEGIN:VEVENT
DTSTART;TZID=Europe/Helsinki:20230425T190000
DTEND;TZID=Europe/Helsinki:20230425T202000
DTSTAMP:20260424T003907
CREATED:20230426T082327Z
LAST-MODIFIED:20230426T082342Z
UID:2113-1682449200-1682454000@maijaruuskanen.com
SUMMARY:Näkymätön nainen
DESCRIPTION:Näkymätön nainen –  traagisen hauska monologi kolmelle \nAjankohtaisen musiikkinäytelmän nainen roikkuu yhteiskunnan ulkoreunalla viimeisillä voimillaan. Miksi juuri minulle kävi näin? Löytyykö syyllinen peilistä\, taustapeilistä vai silkasta sattumasta? Entä pelastus\, voiko se löytyä jostain noista? \nEsitys tutkailee naisen urbaania syrjäytymistä musiikin ja raivoisan komedian keinoin. Näytelmä lauluineen on näyttelijä Satu Silvon 60-vuotisjuhlaesitys. Luottopakkeina ja säveltäjinä ovat muusikot Maija Ruuskanen ja Veera Railio. Näkymättömän naisen mittatilaustyönä voimakolmikolle ovat kirjoittaneet Reidar Palmgren ja Pasi Lampela\, ja esityksen ohjaa Markus Järvenpää. \nEnsi-ilta 15.2.2023 Musiikkiteatteri Kapsäkissä. \n\nKevään lisäesityspäivät Kapsäkillä\n25.04.2023 klo 19\n29.04.2023 klo 15 \nKesto: n. 1h 20min (ei väliaikaa) \nEsiintyjät – Satu Silvo\, Veera Railio ja Maija Ruuskanen\nKäsikirjoitus – Reidar Palmgren ja Pasi Lampela\nOhjaus – Markus Järvenpää\nSävellys – Veera Railio ja Maija Ruuskanen\nLaulujen sanat – Veera Railio ja Maija Ruuskanen (Nainen odottaa sanat: Sirkka-Liisa Sass)\nPuku-\, lavastus- ja videosuunnittelu –Hugo Enkenberg\nValosuunnittelu – Tuittu Teivainen\nÄänisuunnittelu – Max Marshall\nKuva – Ilkka Saastamoinen
URL:https://maijaruuskanen.com/event/nakymaton-nainen-230425/
LOCATION:Musiikkiteatteri Kapsäkki\, Teatterisali\, Hämeentie 68\, HELSINKI\, 00550\, Suomi
CATEGORIES:Teatteri
ATTACH;FMTTYPE=image/jpeg:https://maijaruuskanen.com/wp-content/uploads/2023/01/20221116_kapsakki_2500x_sRGB_02.jpg
ORGANIZER;CN="Musiikkiteatteri Kaps%C3%A4kki":MAILTO:info@kapsakki.fi
END:VEVENT
BEGIN:VEVENT
DTSTART;TZID=Europe/Helsinki:20230429T150000
DTEND;TZID=Europe/Helsinki:20230429T202000
DTSTAMP:20260424T003907
CREATED:20230426T082530Z
LAST-MODIFIED:20230426T082530Z
UID:2116-1682780400-1682799600@maijaruuskanen.com
SUMMARY:Näkymätön nainen
DESCRIPTION:Näkymätön nainen –  traagisen hauska monologi kolmelle \nAjankohtaisen musiikkinäytelmän nainen roikkuu yhteiskunnan ulkoreunalla viimeisillä voimillaan. Miksi juuri minulle kävi näin? Löytyykö syyllinen peilistä\, taustapeilistä vai silkasta sattumasta? Entä pelastus\, voiko se löytyä jostain noista? \nEsitys tutkailee naisen urbaania syrjäytymistä musiikin ja raivoisan komedian keinoin. Näytelmä lauluineen on näyttelijä Satu Silvon 60-vuotisjuhlaesitys. Luottopakkeina ja säveltäjinä ovat muusikot Maija Ruuskanen ja Veera Railio. Näkymättömän naisen mittatilaustyönä voimakolmikolle ovat kirjoittaneet Reidar Palmgren ja Pasi Lampela\, ja esityksen ohjaa Markus Järvenpää. \nEnsi-ilta 15.2.2023 Musiikkiteatteri Kapsäkissä. \n\nKevään lisäesityspäivät Kapsäkillä\n25.04.2023 klo 19\n29.04.2023 klo 15 \nKesto: n. 1h 20min (ei väliaikaa) \nEsiintyjät – Satu Silvo\, Veera Railio ja Maija Ruuskanen\nKäsikirjoitus – Reidar Palmgren ja Pasi Lampela\nOhjaus – Markus Järvenpää\nSävellys – Veera Railio ja Maija Ruuskanen\nLaulujen sanat – Veera Railio ja Maija Ruuskanen (Nainen odottaa sanat: Sirkka-Liisa Sass)\nPuku-\, lavastus- ja videosuunnittelu –Hugo Enkenberg\nValosuunnittelu – Tuittu Teivainen\nÄänisuunnittelu – Max Marshall\nKuva – Ilkka Saastamoinen
URL:https://maijaruuskanen.com/event/nakymaton-nainen-230429/
LOCATION:Musiikkiteatteri Kapsäkki\, Teatterisali\, Hämeentie 68\, HELSINKI\, 00550\, Suomi
CATEGORIES:Teatteri
ATTACH;FMTTYPE=image/jpeg:https://maijaruuskanen.com/wp-content/uploads/2023/01/20221116_kapsakki_2500x_sRGB_02.jpg
ORGANIZER;CN="Musiikkiteatteri Kaps%C3%A4kki":MAILTO:info@kapsakki.fi
END:VEVENT
END:VCALENDAR