BEGIN:VCALENDAR
VERSION:2.0
PRODID:-//Maija Ruuskanen - ECPv6.15.20//NONSGML v1.0//EN
CALSCALE:GREGORIAN
METHOD:PUBLISH
X-ORIGINAL-URL:https://maijaruuskanen.com
X-WR-CALDESC:Tapahtumat Maija Ruuskanen
REFRESH-INTERVAL;VALUE=DURATION:PT1H
X-Robots-Tag:noindex
X-PUBLISHED-TTL:PT1H
BEGIN:VTIMEZONE
TZID:Europe/Helsinki
BEGIN:DAYLIGHT
TZOFFSETFROM:+0200
TZOFFSETTO:+0300
TZNAME:EEST
DTSTART:20200329T010000
END:DAYLIGHT
BEGIN:STANDARD
TZOFFSETFROM:+0300
TZOFFSETTO:+0200
TZNAME:EET
DTSTART:20201025T010000
END:STANDARD
BEGIN:DAYLIGHT
TZOFFSETFROM:+0200
TZOFFSETTO:+0300
TZNAME:EEST
DTSTART:20210328T010000
END:DAYLIGHT
BEGIN:STANDARD
TZOFFSETFROM:+0300
TZOFFSETTO:+0200
TZNAME:EET
DTSTART:20211031T010000
END:STANDARD
BEGIN:DAYLIGHT
TZOFFSETFROM:+0200
TZOFFSETTO:+0300
TZNAME:EEST
DTSTART:20220327T010000
END:DAYLIGHT
BEGIN:STANDARD
TZOFFSETFROM:+0300
TZOFFSETTO:+0200
TZNAME:EET
DTSTART:20221030T010000
END:STANDARD
END:VTIMEZONE
BEGIN:VEVENT
DTSTART;TZID=Europe/Helsinki:20211201T183000
DTEND;TZID=Europe/Helsinki:20211201T210000
DTSTAMP:20260425T053328
CREATED:20230126T181947Z
LAST-MODIFIED:20230126T182207Z
UID:1721-1638383400-1638392400@maijaruuskanen.com
SUMMARY:Lehman Trilogia
DESCRIPTION:LEHMAN TRILOGIA \nLehman Brothers -pankin romahdus vuonna 2008 laukaisi yhden kaikkien aikojen merkittävimmistä finanssikriiseistä. Nyt\, yli kymmenen vuotta myöhemmin\, kriisi vaikuttaa edelleen jokapäiväiseen elämäämme. \nPalkitun näytelmäkirjailijan Stefano Massinin Lehman-trilogia on runollisen koominen tarina Lehmanin perheen eeppisestä taipaleesta: kuinka köyhistä saksalaisista maahanmuuttajista kasvaa mahtavan talousimperiumin rakentajia. Seuraamalla Lehmanin perheen vaiheita kolmen sukupolven ajan\, näytelmä kuvaa modernin kapitalismin evoluutiota\, rahatalouden nousua ja massakulutuksen alkua. Selviää\, missä olemme nyt\, ja miten olemme tähän päätyneet. \nNäyttämöllä Jussi Lehtonen\, Juha Sääski\, Timo Torikka\, Maija Ruuskanen\nOhjaus Davide Giovanzana\nTeksti Stefano Massini\nSuomennos Elina Suolahti\nSävellys ja äänisuunnittelu Maija Ruuskanen\nLavastus ja pukusuunnittelut Tinde Lappalainen\nValosuunnittelu ja tekninen päällikkö Pietu Pietiäinen\nÄänisuunnittelu Tommi Koskinen\nVideosuunnittelu ja haastattelut Joona Pettersson\nTuottaja Luc Gérardin \nTuotanto Teatteri Metamorfoosi. Tuotantoyhteistyössä Espoon Kaupunginteatteri\, Tampereen Työväen Teatteri ja Suomen Kansallisteatteri. \nLiput: Lippu.fi
URL:https://maijaruuskanen.com/event/lehman-trilogia-clone/
LOCATION:Revontulihalli\, Revontulentie 8\, Espoo\, 02100\, Suomi
CATEGORIES:Teatteri
ATTACH;FMTTYPE=image/jpeg:https://maijaruuskanen.com/wp-content/uploads/2020/08/Lehman-promo4.jpg
END:VEVENT
BEGIN:VEVENT
DTSTART;TZID=Europe/Helsinki:20211203T183000
DTEND;TZID=Europe/Helsinki:20211203T210000
DTSTAMP:20260425T053328
CREATED:20230126T181915Z
LAST-MODIFIED:20230126T182143Z
UID:1719-1638556200-1638565200@maijaruuskanen.com
SUMMARY:Lehman Trilogia
DESCRIPTION:LEHMAN TRILOGIA \nLehman Brothers -pankin romahdus vuonna 2008 laukaisi yhden kaikkien aikojen merkittävimmistä finanssikriiseistä. Nyt\, yli kymmenen vuotta myöhemmin\, kriisi vaikuttaa edelleen jokapäiväiseen elämäämme. \nPalkitun näytelmäkirjailijan Stefano Massinin Lehman-trilogia on runollisen koominen tarina Lehmanin perheen eeppisestä taipaleesta: kuinka köyhistä saksalaisista maahanmuuttajista kasvaa mahtavan talousimperiumin rakentajia. Seuraamalla Lehmanin perheen vaiheita kolmen sukupolven ajan\, näytelmä kuvaa modernin kapitalismin evoluutiota\, rahatalouden nousua ja massakulutuksen alkua. Selviää\, missä olemme nyt\, ja miten olemme tähän päätyneet. \nNäyttämöllä Jussi Lehtonen\, Juha Sääski\, Timo Torikka\, Maija Ruuskanen\nOhjaus Davide Giovanzana\nTeksti Stefano Massini\nSuomennos Elina Suolahti\nSävellys ja äänisuunnittelu Maija Ruuskanen\nLavastus ja pukusuunnittelut Tinde Lappalainen\nValosuunnittelu ja tekninen päällikkö Pietu Pietiäinen\nÄänisuunnittelu Tommi Koskinen\nVideosuunnittelu ja haastattelut Joona Pettersson\nTuottaja Luc Gérardin \nTuotanto Teatteri Metamorfoosi. Tuotantoyhteistyössä Espoon Kaupunginteatteri\, Tampereen Työväen Teatteri ja Suomen Kansallisteatteri. \nLiput: Lippu.fi
URL:https://maijaruuskanen.com/event/lehman-trilogia-2/
LOCATION:Revontulihalli\, Revontulentie 8\, Espoo\, 02100\, Suomi
CATEGORIES:Teatteri
ATTACH;FMTTYPE=image/jpeg:https://maijaruuskanen.com/wp-content/uploads/2020/08/Lehman-promo4.jpg
END:VEVENT
BEGIN:VEVENT
DTSTART;TZID=Europe/Helsinki:20211204T183000
DTEND;TZID=Europe/Helsinki:20211204T210000
DTSTAMP:20260425T053328
CREATED:20210912T120822Z
LAST-MODIFIED:20230126T181434Z
UID:1563-1638642600-1638651600@maijaruuskanen.com
SUMMARY:Lehman Trilogia
DESCRIPTION:LEHMAN TRILOGIA \nLehman Brothers -pankin romahdus vuonna 2008 laukaisi yhden kaikkien aikojen merkittävimmistä finanssikriiseistä. Nyt\, yli kymmenen vuotta myöhemmin\, kriisi vaikuttaa edelleen jokapäiväiseen elämäämme. \nPalkitun näytelmäkirjailijan Stefano Massinin Lehman-trilogia on runollisen koominen tarina Lehmanin perheen eeppisestä taipaleesta: kuinka köyhistä saksalaisista maahanmuuttajista kasvaa mahtavan talousimperiumin rakentajia. Seuraamalla Lehmanin perheen vaiheita kolmen sukupolven ajan\, näytelmä kuvaa modernin kapitalismin evoluutiota\, rahatalouden nousua ja massakulutuksen alkua. Selviää\, missä olemme nyt\, ja miten olemme tähän päätyneet. \nNäyttämöllä Jussi Lehtonen\, Juha Sääski\, Timo Torikka\, Maija Ruuskanen\nOhjaus Davide Giovanzana\nTeksti Stefano Massini\nSuomennos Elina Suolahti\nSävellys ja äänisuunnittelu Maija Ruuskanen\nLavastus ja pukusuunnittelut Tinde Lappalainen\nValosuunnittelu ja tekninen päällikkö Pietu Pietiäinen\nÄänisuunnittelu Tommi Koskinen\nVideosuunnittelu ja haastattelut Joona Pettersson\nTuottaja Luc Gérardin \nTuotanto Teatteri Metamorfoosi. Tuotantoyhteistyössä Espoon Kaupunginteatteri\, Tampereen Työväen Teatteri ja Suomen Kansallisteatteri. \nLiput: Lippu.fi
URL:https://maijaruuskanen.com/event/lehman-trilogy-eraan-pankin-tuho-espoo-5/
LOCATION:Revontulihalli\, Revontulentie 8\, Espoo\, 02100\, Suomi
CATEGORIES:Teatteri
ATTACH;FMTTYPE=image/jpeg:https://maijaruuskanen.com/wp-content/uploads/2020/08/Lehman-promo4.jpg
END:VEVENT
END:VCALENDAR