BEGIN:VCALENDAR
VERSION:2.0
PRODID:-//Maija Ruuskanen - ECPv6.15.20//NONSGML v1.0//EN
CALSCALE:GREGORIAN
METHOD:PUBLISH
X-WR-CALNAME:Maija Ruuskanen
X-ORIGINAL-URL:https://maijaruuskanen.com
X-WR-CALDESC:Tapahtumat Maija Ruuskanen
REFRESH-INTERVAL;VALUE=DURATION:PT1H
X-Robots-Tag:noindex
X-PUBLISHED-TTL:PT1H
BEGIN:VTIMEZONE
TZID:Europe/Helsinki
BEGIN:DAYLIGHT
TZOFFSETFROM:+0200
TZOFFSETTO:+0300
TZNAME:EEST
DTSTART:20200329T010000
END:DAYLIGHT
BEGIN:STANDARD
TZOFFSETFROM:+0300
TZOFFSETTO:+0200
TZNAME:EET
DTSTART:20201025T010000
END:STANDARD
BEGIN:DAYLIGHT
TZOFFSETFROM:+0200
TZOFFSETTO:+0300
TZNAME:EEST
DTSTART:20210328T010000
END:DAYLIGHT
BEGIN:STANDARD
TZOFFSETFROM:+0300
TZOFFSETTO:+0200
TZNAME:EET
DTSTART:20211031T010000
END:STANDARD
BEGIN:DAYLIGHT
TZOFFSETFROM:+0200
TZOFFSETTO:+0300
TZNAME:EEST
DTSTART:20220327T010000
END:DAYLIGHT
BEGIN:STANDARD
TZOFFSETFROM:+0300
TZOFFSETTO:+0200
TZNAME:EET
DTSTART:20221030T010000
END:STANDARD
END:VTIMEZONE
BEGIN:VEVENT
DTSTART;TZID=Europe/Helsinki:20210623T190000
DTEND;TZID=Europe/Helsinki:20210623T201500
DTSTAMP:20260425T160455
CREATED:20210106T161053Z
LAST-MODIFIED:20210616T122111Z
UID:1237-1624474800-1624479300@maijaruuskanen.com
SUMMARY:Ruuskanen Railio Klubi: Erja Lyytinen
DESCRIPTION:Kesäkuun solistivieras Erja Lyytinen on huikea blueskitaristi\, laulaja ja lauluntekijä. Vuonna 2017 Lyytinen valittiin ”Vuoden parhaaksi blues-kitaristiksi” European Blues Awards -äänestyksessä. Vuoden 2019 marraskuussa hän sijoittui Guitar World -lehden ”Maailman parhaat blueskitaristit” -äänestyksessä sijalle 14. Kapsäkissä hänet on nähty aiemminkin\, ja klubit ovat nousseet yksiksi Kapsäkin suosituimmista klubi-illoista\, joten liput kannattaa ostaa tälle keikalle heti! Luvassa on huikeaa meininkiä ja säteilevää energiaa lavan täydeltä.\n\n\n\n\n\n\n\n\n\n\nLiput 28€ /24 €\nOSTA LIPUT TÄSTÄ\n\n\n\n\n\nKesto n. 1 h\n\nMaija Ruuskanen ja Veera Railio ovat voimaduo\, pianisti ja laulaja-viulisti\, jotka juhlivat koko vuoden 2021\, kun suosittu Ruuskanen Railio Klubi täyttää 10 vuotta! \nTule kokemaan lämminhenkinen klubitunnelma Kapsäkkiin\, sillä elävää musiikkia ei voita mikään! Näillä klubeilla näet suosikkiartistisi ihan uusin silmin.
URL:https://maijaruuskanen.com/event/ruuskanenrailioklubi_erjalyytinen/
LOCATION:Musiikkiteatteri Kapsäkki\, Teatterisali\, Hämeentie 68\, HELSINKI\, 00550\, Suomi
CATEGORIES:Konsertti,Ruuskanen Railio Klubi
ATTACH;FMTTYPE=image/jpeg:https://maijaruuskanen.com/wp-content/uploads/2021/01/Erja-Lyytinen-Katolla_p-scaled.jpg
ORGANIZER;CN="Musiikkiteatteri Kaps%C3%A4kki":MAILTO:info@kapsakki.fi
END:VEVENT
END:VCALENDAR