BEGIN:VCALENDAR
VERSION:2.0
PRODID:-//Maija Ruuskanen - ECPv6.15.20//NONSGML v1.0//EN
CALSCALE:GREGORIAN
METHOD:PUBLISH
X-WR-CALNAME:Maija Ruuskanen
X-ORIGINAL-URL:https://maijaruuskanen.com
X-WR-CALDESC:Tapahtumat Maija Ruuskanen
REFRESH-INTERVAL;VALUE=DURATION:PT1H
X-Robots-Tag:noindex
X-PUBLISHED-TTL:PT1H
BEGIN:VTIMEZONE
TZID:Europe/Helsinki
BEGIN:DAYLIGHT
TZOFFSETFROM:+0200
TZOFFSETTO:+0300
TZNAME:EEST
DTSTART:20200329T010000
END:DAYLIGHT
BEGIN:STANDARD
TZOFFSETFROM:+0300
TZOFFSETTO:+0200
TZNAME:EET
DTSTART:20201025T010000
END:STANDARD
BEGIN:DAYLIGHT
TZOFFSETFROM:+0200
TZOFFSETTO:+0300
TZNAME:EEST
DTSTART:20210328T010000
END:DAYLIGHT
BEGIN:STANDARD
TZOFFSETFROM:+0300
TZOFFSETTO:+0200
TZNAME:EET
DTSTART:20211031T010000
END:STANDARD
BEGIN:DAYLIGHT
TZOFFSETFROM:+0200
TZOFFSETTO:+0300
TZNAME:EEST
DTSTART:20220327T010000
END:DAYLIGHT
BEGIN:STANDARD
TZOFFSETFROM:+0300
TZOFFSETTO:+0200
TZNAME:EET
DTSTART:20221030T010000
END:STANDARD
END:VTIMEZONE
BEGIN:VEVENT
DTSTART;TZID=Europe/Helsinki:20210519T190000
DTEND;TZID=Europe/Helsinki:20210519T204500
DTSTAMP:20260425T175350
CREATED:20210104T161358Z
LAST-MODIFIED:20210116T104509Z
UID:1190-1621450800-1621457100@maijaruuskanen.com
SUMMARY:Ruuskanen Railio Klubi: Tuure Kilpeläinen 19.5.21
DESCRIPTION:Ruuskanen Railio Klubi: Tuure Kilpeläinen\n\n\n\n\n\n\nti 18.5.2021 klo 19\nke 19.5.2021 klo 19\nSilkkisali\, Teatteri Vantaa \n  \nTuure Kilpeläinen on laulaja-lauluntekijä ja huikea muusikko\, joka on tullut viimeisen kymmenen vuoden aikana suurelle yleisölle tutuksi kokoonpanollaan Tuure Kilpeläinen ja Kaihon karavaani. Hänet on palkittu useilla musiikkialan palkinnoilla ja levymyynnit ovat rikkoneet kulta- ja platinarajoja. Maija Ruuskanen ja Veera Railio ovat voimaduo\, pianisti ja laulaja-viulisti\, jotka ovat pyörittäneet suosittua Ruuskanen Railio Klubiaan jo kymmenen vuotta! \n  \nNyt Ruuskanen Railio Klubilla\, Silkkisalissa\, on harvinainen mahdollisuus nähdä Tuure Kilpeläinen tunnelmallisella klubikeikalla\, jossa kuullaan hänen kappaleitaan – koko Suomen rakastamia hittejä! \nMukana Ihmisäänet-kuoro. \n  \nKesto: n. 1h 45min\, sis. väliajan\nLiput: alkaen 35 / 32 €
URL:https://maijaruuskanen.com/event/ruuskanenrailioklubi_tuurekilpelainen_1905/
LOCATION:Silkkisali\, Tikkurilantie 44\, Vantaa\, 01300\, Suomi
CATEGORIES:Konsertti,Ruuskanen Railio Klubi
ATTACH;FMTTYPE=image/jpeg:https://maijaruuskanen.com/wp-content/uploads/2021/01/RR_Tuure2-copy-scaled.jpg
ORGANIZER;CN="Teatteri Vantaa":MAILTO:silkkisali@teatterivantaa.fi
END:VEVENT
END:VCALENDAR